BEGIN:VCALENDAR
VERSION:2.0
PRODID:DPCALENDAR
CALSCALE:GREGORIAN
BEGIN:VTIMEZONE
TZID:Europe/Berlin
X-MICROSOFT-CDO-TZID:4
BEGIN:STANDARD
DTSTART:20251026T010000
TZOFFSETFROM:+0200
TZOFFSETTO:+0100
TZNAME:CET
END:STANDARD
BEGIN:STANDARD
DTSTART:20261025T010000
TZOFFSETFROM:+0200
TZOFFSETTO:+0100
TZNAME:CET
END:STANDARD
BEGIN:DAYLIGHT
DTSTART:20260329T010000
TZOFFSETFROM:+0100
TZOFFSETTO:+0200
TZNAME:CEST
END:DAYLIGHT
END:VTIMEZONE
X-WR-TIMEZONE:Europe/Berlin
BEGIN:VEVENT
DTSTART;VALUE=DATE:20221024
DTEND;VALUE=DATE:20221030
UID:F30C5B16-78A2-40B5-A7DF-BDCCD7FB3855
SUMMARY:Herbstferien Hessen
CREATED:20220723T122950Z
DTSTAMP:20220723T122950Z
URL:https://www.philipp-dieffenbach-schule.de/index.php/ueber-uns/termine/herbstferien
LAST-MODIFIED:20220723T125201Z
SEQUENCE:1331
X-ACCESS:1
X-HITS:5
X-COLOR:9dc991
X-SHOW-END-TIME:0
END:VEVENT
BEGIN:VEVENT
DTSTART;VALUE=DATE:20231023
DTEND;VALUE=DATE:20231030
UID:1BD05A3A-1BB6-4768-94A2-24C97C4DFBC3
SUMMARY:Herbstferien 2023
CREATED:20230902T152228Z
DTSTAMP:20230902T152228Z
URL:https://www.philipp-dieffenbach-schule.de/index.php/ueber-uns/termine/herbstferien-3
X-ACCESS:1
X-HITS:602
X-COLOR:4dad15
X-SHOW-END-TIME:1
END:VEVENT
BEGIN:VEVENT
DTSTART;VALUE=DATE:20231225
DTEND;VALUE=DATE:20240115
UID:F643E2BE-B60F-4B6B-BFDE-6EF0DFC6742E
SUMMARY:Weihnachtsferien 2023/24
CREATED:20230730T091417Z
DTSTAMP:20230730T091417Z
URL:https://www.philipp-dieffenbach-schule.de/index.php/ueber-uns/termine/weihnachtsferien
X-ACCESS:1
X-HITS:852
X-COLOR:4dad15
X-SHOW-END-TIME:1
END:VEVENT
BEGIN:VEVENT
DTSTART;VALUE=DATE:20240325
DTEND;VALUE=DATE:20240415
UID:E1A3508D-E3FD-49B9-B9FD-C9754C698352
SUMMARY:Osterferien 2024
CREATED:20230902T152627Z
DTSTAMP:20230902T152627Z
URL:https://www.philipp-dieffenbach-schule.de/index.php/ueber-uns/termine/osterferien-2024
X-ACCESS:1
X-HITS:579
X-COLOR:4dad15
X-SHOW-END-TIME:1
END:VEVENT
BEGIN:VEVENT
DTSTART;VALUE=DATE:20240715
DTEND;VALUE=DATE:20240826
UID:F3A3E559-E48C-4B9B-ADBD-C3E3EFEA6736
SUMMARY:Sommerferien 2024
CREATED:20230902T153559Z
DTSTAMP:20230902T153559Z
URL:https://www.philipp-dieffenbach-schule.de/index.php/ueber-uns/termine/sommerferien-2024
LAST-MODIFIED:20230902T153615Z
SEQUENCE:16
X-ACCESS:1
X-HITS:292
X-COLOR:4dad15
X-SHOW-END-TIME:1
END:VEVENT
BEGIN:VEVENT
DTSTART;VALUE=DATE:20241014
DTEND;VALUE=DATE:20241028
UID:F8C8E85D-944B-45BD-9175-4096EA1F6AB8
SUMMARY:Herbstferien
CREATED:20240824T113904Z
DTSTAMP:20240824T113904Z
URL:https://www.philipp-dieffenbach-schule.de/index.php/ueber-uns/termine/herbstferien-4
LAST-MODIFIED:20240824T113904Z
SEQUENCE:0
X-ACCESS:1
X-HITS:378
X-COLOR:4dad15
X-SHOW-END-TIME:1
END:VEVENT
BEGIN:VEVENT
DTSTART;VALUE=DATE:20241223
DTEND;VALUE=DATE:20250113
UID:30EF7581-D3BB-4C8C-BDCA-0F7E49C518B8
SUMMARY:Weihnachtsferien 
CREATED:20240824T114053Z
DTSTAMP:20240824T114053Z
URL:https://www.philipp-dieffenbach-schule.de/index.php/ueber-uns/termine/weihnachtsferien-2
LAST-MODIFIED:20240824T114053Z
SEQUENCE:0
X-ACCESS:1
X-HITS:387
X-COLOR:4dad15
X-SHOW-END-TIME:1
END:VEVENT
BEGIN:VEVENT
DTSTART;VALUE=DATE:20250707
DTEND;VALUE=DATE:20250818
UID:EC7E9681-8D80-4D71-8352-69BED104EF6A
SUMMARY:Sommerferien
CREATED:20240824T115335Z
DTSTAMP:20240824T115335Z
URL:https://www.philipp-dieffenbach-schule.de/index.php/ueber-uns/termine/sommerferien-2
LAST-MODIFIED:20240824T115335Z
SEQUENCE:0
X-ACCESS:1
X-HITS:363
X-COLOR:4dad15
X-SHOW-END-TIME:1
END:VEVENT
BEGIN:VEVENT
DTSTART;VALUE=DATE:20251006
DTEND;VALUE=DATE:20251020
UID:8CFC1438-060A-463C-AE83-C755446DB035
SUMMARY:Herbstferien
CREATED:20250813T100257Z
DTSTAMP:20250813T100257Z
URL:https://www.philipp-dieffenbach-schule.de/index.php/ueber-uns/termine/herbstferien-5
LAST-MODIFIED:20250813T100257Z
SEQUENCE:0
X-ACCESS:1
X-HITS:274
X-COLOR:4dad15
X-SHOW-END-TIME:1
END:VEVENT
BEGIN:VEVENT
DTSTART;VALUE=DATE:20251222
DTEND;VALUE=DATE:20260112
UID:91A18258-F871-4631-8187-8AE287F3E0FF
SUMMARY:Weihnachtsferien
CREATED:20250813T100354Z
DTSTAMP:20250813T100354Z
URL:https://www.philipp-dieffenbach-schule.de/index.php/ueber-uns/termine/weihnachtsferien-3
LAST-MODIFIED:20250813T100354Z
SEQUENCE:0
X-ACCESS:1
X-HITS:462
X-COLOR:4dad15
X-SHOW-END-TIME:1
END:VEVENT
BEGIN:VEVENT
DTSTART;VALUE=DATE:20260330
DTEND;VALUE=DATE:20260413
UID:59E39D45-88E4-4D7D-9C93-3D31C309FB27
SUMMARY:Osterferien
CREATED:20250816T131659Z
DTSTAMP:20250816T131659Z
URL:https://www.philipp-dieffenbach-schule.de/index.php/ueber-uns/termine/osterferien-2
LAST-MODIFIED:20250816T131659Z
SEQUENCE:0
X-ACCESS:1
X-HITS:124
X-COLOR:4dad15
X-SHOW-END-TIME:1
END:VEVENT
BEGIN:VEVENT
DTSTART;VALUE=DATE:20260629
DTEND;VALUE=DATE:20260810
UID:47A9318A-9CF1-4DF2-963D-65A74D96B828
SUMMARY:Sommerferien 
CREATED:20250816T132640Z
DTSTAMP:20250816T132640Z
URL:https://www.philipp-dieffenbach-schule.de/index.php/ueber-uns/termine/sommerferien-3
LAST-MODIFIED:20250816T132640Z
SEQUENCE:0
X-ACCESS:1
X-HITS:7
X-COLOR:4dad15
X-SHOW-END-TIME:1
END:VEVENT
END:VCALENDAR